BEGIN:VCALENDAR
VERSION:2.0
PRODID:https://github.com/derhansen/sf_event_mgt
METHOD:PUBLISH
BEGIN:VEVENT
UID:271-467@www.eh-ludwigsburg.de
CLASS: PUBLIC
SUMMARY:Tag der offenen Hochschule
DESCRIPTION:Lust auf Hochschule? Die Karlshöhe feiert ihr Jahresfest und w
 ir laden wie immer in die Hochschule ein. Lernen Sie unsere Studiengänge 
 kennen, reden Sie in lockerer Atmosphäre mit Studierenden und Dozierenden
 , erleben Sie, was die Hochschule alles zu bieten hat. Für alle Gäste ha
 ben wir ein buntes Programm zum Mitmachen und Zuschauen, sowie Führungen 
 über den schönen Campus und durchs Lernlabor Skills Lab. Gerne beraten w
 ir Sie zum Studienangebot. Und im Hochschul-Café gibt es Kaffee und Kuche
 n.
DTSTAMP:20260420T092755Z
DTSTART:20260510T090000Z
DTEND:20260510T140000Z
END:VEVENT
END:VCALENDAR